BEGIN:VCALENDAR
PRODID:-//Pixl8//Eventfolio//EN
VERSION:2.0
X-WR-TIMEZONE:Europe/London
CALSCALE:GREGORIAN
METHOD:PUBLISH
CLASS:PUBLIC
BEGIN:VTIMEZONE
TZID:Europe/London
LAST-MODIFIED:20260306T231828Z
TZURL:https://www.tzurl.org/zoneinfo-outlook/Europe/London
X-LIC-LOCATION:Europe/London
BEGIN:DAYLIGHT
TZNAME:BST
TZOFFSETFROM:+0000
TZOFFSETTO:+0100
DTSTART:19700329T010000
RRULE:FREQ=YEARLY;BYMONTH=3;BYDAY=-1SU
END:DAYLIGHT
BEGIN:STANDARD
TZNAME:GMT
TZOFFSETFROM:+0100
TZOFFSETTO:+0000
DTSTART:19701025T020000
RRULE:FREQ=YEARLY;BYMONTH=10;BYDAY=-1SU
END:STANDARD
END:VTIMEZONE
BEGIN:VEVENT
DTSTART;TZID=Europe/London:20250430T093000
DTEND;TZID=Europe/London:20250430T173000
DTSTAMP:20260424T141124Z
UID:{DFD339FF-5FDA-42F6-80F231183849ED06.45777}
LOCATION:Cavendish Conference Centre\, London\, 22 Duchess Mews\, London W1G 9DT
SUMMARY:Data & Analytics Symposium
DESCRIPTION:Event details: https://www.sapusers.org/event-calendar/data-analytics-symposium-2025.html
PRIORITY:1
END:VEVENT
END:VCALENDAR